Package: methylPipe Version: 1.40.0 Command: /Library/Frameworks/R.framework/Resources/bin/R CMD INSTALL methylPipe StartedAt: 2025-02-10 16:01:19 -0500 (Mon, 10 Feb 2025) EndedAt: 2025-02-10 16:03:13 -0500 (Mon, 10 Feb 2025) EllapsedTime: 114.0 seconds RetCode: 0 Status: OK