Package: methylMnM Version: 1.44.0 Command: /home/biocbuild/R/R/bin/R CMD INSTALL methylMnM StartedAt: 2025-02-10 20:14:20 -0000 (Mon, 10 Feb 2025) EndedAt: 2025-02-10 20:14:51 -0000 (Mon, 10 Feb 2025) EllapsedTime: 31.6 seconds RetCode: 0 Status: OK