Package: methylMnM Version: 1.44.0 Command: /home/biocbuild/R/R/bin/R CMD build --keep-empty-dirs --no-resave-data methylMnM StartedAt: 2025-02-11 00:40:33 -0000 (Tue, 11 Feb 2025) EndedAt: 2025-02-11 00:42:28 -0000 (Tue, 11 Feb 2025) EllapsedTime: 115.0 seconds RetCode: 0 Status: OK PackageFile: methylMnM_1.44.0.tar.gz PackageFileSize: 8.501 MiB