Package: methylMnM Version: 1.44.0 Command: /home/biocbuild/bbs-3.20-bioc/R/bin/R CMD INSTALL methylMnM StartedAt: 2025-02-13 15:12:13 -0500 (Thu, 13 Feb 2025) EndedAt: 2025-02-13 15:12:23 -0500 (Thu, 13 Feb 2025) EllapsedTime: 10.6 seconds RetCode: 0 Status: OK