Package: methylMnM Version: 1.44.0 Command: /Library/Frameworks/R.framework/Resources/bin/R CMD check --install=check:methylMnM.install-out.txt --library=/Library/Frameworks/R.framework/Resources/library --no-vignettes --timings methylMnM_1.44.0.tar.gz StartedAt: 2025-02-15 01:07:27 -0500 (Sat, 15 Feb 2025) EndedAt: 2025-02-15 01:08:04 -0500 (Sat, 15 Feb 2025) EllapsedTime: 37.5 seconds RetCode: 0 Status: OK CheckDir: methylMnM.Rcheck Warnings: 0