Package: methylMnM Version: 1.44.0 Command: /Library/Frameworks/R.framework/Resources/bin/R CMD build --keep-empty-dirs --no-resave-data methylMnM StartedAt: 2025-02-14 03:15:34 -0500 (Fri, 14 Feb 2025) EndedAt: 2025-02-14 03:17:08 -0500 (Fri, 14 Feb 2025) EllapsedTime: 94.2 seconds RetCode: 0 Status: OK PackageFile: methylMnM_1.44.0.tar.gz PackageFileSize: 8.51 MiB