Package: methylKit Version: 1.32.0 Command: /home/biocbuild/R/R/bin/R CMD check --install=check:methylKit.install-out.txt --library=/home/biocbuild/R/R/site-library --no-vignettes --timings methylKit_1.32.0.tar.gz StartedAt: 2025-02-04 08:40:32 -0000 (Tue, 04 Feb 2025) EndedAt: 2025-02-04 08:47:56 -0000 (Tue, 04 Feb 2025) EllapsedTime: 444.5 seconds RetCode: 0 Status: OK CheckDir: methylKit.Rcheck Warnings: 0