Package: methylKit Version: 1.32.0 Command: /Library/Frameworks/R.framework/Resources/bin/R CMD INSTALL methylKit StartedAt: 2025-01-30 15:35:30 -0500 (Thu, 30 Jan 2025) EndedAt: 2025-01-30 15:37:39 -0500 (Thu, 30 Jan 2025) EllapsedTime: 128.5 seconds RetCode: 0 Status: OK