Package: methylKit Version: 1.32.0 Command: /Library/Frameworks/R.framework/Resources/bin/R CMD check --install=check:methylKit.install-out.txt --library=/Library/Frameworks/R.framework/Resources/library --no-vignettes --timings methylKit_1.32.0.tar.gz StartedAt: 2025-01-31 06:19:14 -0500 (Fri, 31 Jan 2025) EndedAt: 2025-01-31 06:32:23 -0500 (Fri, 31 Jan 2025) EllapsedTime: 788.6 seconds RetCode: 0 Status: OK CheckDir: methylKit.Rcheck Warnings: 0