Package: methylKit Version: 1.32.0 Command: /Library/Frameworks/R.framework/Resources/bin/R CMD INSTALL methylKit StartedAt: 2025-02-03 15:49:26 -0500 (Mon, 03 Feb 2025) EndedAt: 2025-02-03 15:50:32 -0500 (Mon, 03 Feb 2025) EllapsedTime: 65.8 seconds RetCode: 0 Status: OK