Package: methylKit Version: 1.32.0 Command: /Library/Frameworks/R.framework/Resources/bin/R CMD check --install=check:methylKit.install-out.txt --library=/Library/Frameworks/R.framework/Resources/library --no-vignettes --timings methylKit_1.32.0.tar.gz StartedAt: 2025-02-01 00:47:05 -0500 (Sat, 01 Feb 2025) EndedAt: 2025-02-01 00:53:41 -0500 (Sat, 01 Feb 2025) EllapsedTime: 395.2 seconds RetCode: 0 Status: OK CheckDir: methylKit.Rcheck Warnings: 0