Package: methylKit Version: 1.32.0 Command: /Library/Frameworks/R.framework/Resources/bin/R CMD build --keep-empty-dirs --no-resave-data methylKit StartedAt: 2025-02-04 03:13:03 -0500 (Tue, 04 Feb 2025) EndedAt: 2025-02-04 03:15:01 -0500 (Tue, 04 Feb 2025) EllapsedTime: 117.8 seconds RetCode: 0 Status: OK PackageFile: methylKit_1.32.0.tar.gz PackageFileSize: 1.445 MiB