Package: methylInheritance Version: 1.30.0 Command: /home/biocbuild/R/R/bin/R CMD INSTALL methylInheritance StartedAt: 2025-03-31 20:30:56 -0000 (Mon, 31 Mar 2025) EndedAt: 2025-03-31 20:31:43 -0000 (Mon, 31 Mar 2025) EllapsedTime: 46.9 seconds RetCode: 0 Status: OK