Package: methylInheritance Version: 1.30.0 Command: /Library/Frameworks/R.framework/Resources/bin/R CMD INSTALL methylInheritance StartedAt: 2025-03-31 15:32:29 -0400 (Mon, 31 Mar 2025) EndedAt: 2025-03-31 15:33:47 -0400 (Mon, 31 Mar 2025) EllapsedTime: 78.4 seconds RetCode: 0 Status: OK