Package: methylGSA Version: 1.24.0 Command: /home/biocbuild/R/R/bin/R CMD INSTALL methylGSA StartedAt: 2025-01-27 22:09:27 -0000 (Mon, 27 Jan 2025) EndedAt: 2025-01-27 22:10:21 -0000 (Mon, 27 Jan 2025) EllapsedTime: 53.7 seconds RetCode: 0 Status: OK