Package: methylGSA Version: 1.24.0 Command: /home/biocbuild/bbs-3.20-bioc/R/bin/R CMD INSTALL methylGSA StartedAt: 2025-01-27 17:00:06 -0500 (Mon, 27 Jan 2025) EndedAt: 2025-01-27 17:00:51 -0500 (Mon, 27 Jan 2025) EllapsedTime: 44.8 seconds RetCode: 0 Status: OK