Package: methylGSA Version: 1.24.0 Command: rm -rf methylGSA.buildbin-libdir && mkdir methylGSA.buildbin-libdir && /Users/biocbuild/BBS/utils/build-universal.sh methylGSA_1.24.0.tar.gz /Library/Frameworks/R.framework/Resources/bin/R methylGSA.buildbin-libdir StartedAt: 2025-01-28 13:39:23 -0500 (Tue, 28 Jan 2025) EndedAt: 2025-01-28 13:42:08 -0500 (Tue, 28 Jan 2025) EllapsedTime: 164.8 seconds RetCode: 0 Status: OK PackageFile: methylGSA_1.24.0.tgz PackageFileSize: 3.198 MiB