Package: methylGSA Version: 1.24.0 Command: /Library/Frameworks/R.framework/Resources/bin/R CMD check --install=check:methylGSA.install-out.txt --library=/Library/Frameworks/R.framework/Resources/library --no-vignettes --timings methylGSA_1.24.0.tar.gz StartedAt: 2025-04-02 00:24:05 -0400 (Wed, 02 Apr 2025) EndedAt: 2025-04-02 00:31:14 -0400 (Wed, 02 Apr 2025) EllapsedTime: 429.3 seconds RetCode: 0 Status: OK CheckDir: methylGSA.Rcheck Warnings: 0