Package: methylCC Version: 1.20.0 Command: /home/biocbuild/R/R/bin/R CMD check --install=check:methylCC.install-out.txt --library=/home/biocbuild/R/R/site-library --no-vignettes --timings methylCC_1.20.0.tar.gz StartedAt: 2025-02-04 08:38:32 -0000 (Tue, 04 Feb 2025) EndedAt: 2025-02-04 08:46:37 -0000 (Tue, 04 Feb 2025) EllapsedTime: 485.5 seconds RetCode: 0 Status: OK CheckDir: methylCC.Rcheck Warnings: 0