Package: methylCC Version: 1.20.0 Command: /home/biocbuild/R/R/bin/R CMD build --keep-empty-dirs --no-resave-data methylCC StartedAt: 2025-02-04 00:51:04 -0000 (Tue, 04 Feb 2025) EndedAt: 2025-02-04 00:54:53 -0000 (Tue, 04 Feb 2025) EllapsedTime: 229.1 seconds RetCode: 0 Status: OK PackageFile: methylCC_1.20.0.tar.gz PackageFileSize: 4.387 MiB