Package: methylCC Version: 1.20.0 Command: rm -rf methylCC.buildbin-libdir && mkdir methylCC.buildbin-libdir && F:\biocbuild\bbs-3.20-bioc\R\bin\R.exe CMD INSTALL --build --library=methylCC.buildbin-libdir methylCC_1.20.0.tar.gz StartedAt: 2025-01-28 08:32:32 -0500 (Tue, 28 Jan 2025) EndedAt: 2025-01-28 08:33:35 -0500 (Tue, 28 Jan 2025) EllapsedTime: 62.3 seconds RetCode: 0 Status: OK PackageFile: methylCC_1.20.0.zip PackageFileSize: 4.652 MiB