Package: methylCC Version: 1.20.0 Command: /Library/Frameworks/R.framework/Resources/bin/R CMD check --install=check:methylCC.install-out.txt --library=/Library/Frameworks/R.framework/Resources/library --no-vignettes --timings methylCC_1.20.0.tar.gz StartedAt: 2025-01-28 06:20:00 -0500 (Tue, 28 Jan 2025) EndedAt: 2025-01-28 06:34:20 -0500 (Tue, 28 Jan 2025) EllapsedTime: 860.2 seconds RetCode: 0 Status: OK CheckDir: methylCC.Rcheck Warnings: 0