Package: methylCC Version: 1.20.0 Command: rm -rf methylCC.buildbin-libdir && mkdir methylCC.buildbin-libdir && /Users/biocbuild/BBS/utils/build-universal.sh methylCC_1.20.0.tar.gz /Library/Frameworks/R.framework/Resources/bin/R methylCC.buildbin-libdir StartedAt: 2025-01-28 13:39:18 -0500 (Tue, 28 Jan 2025) EndedAt: 2025-01-28 13:42:06 -0500 (Tue, 28 Jan 2025) EllapsedTime: 168.1 seconds RetCode: 0 Status: OK PackageFile: methylCC_1.20.0.tgz PackageFileSize: 4.713 MiB