Package: methylCC Version: 1.20.0 Command: rm -rf methylCC.buildbin-libdir && mkdir methylCC.buildbin-libdir && /Users/biocbuild/BBS/utils/build-universal.sh methylCC_1.20.0.tar.gz /Library/Frameworks/R.framework/Resources/bin/R methylCC.buildbin-libdir StartedAt: 2024-11-09 16:57:58 -0500 (Sat, 09 Nov 2024) EndedAt: 2024-11-09 16:58:19 -0500 (Sat, 09 Nov 2024) EllapsedTime: 20.3 seconds RetCode: 0 Status: OK PackageFile: methylCC_1.20.0.tgz PackageFileSize: 4.714 MiB