Package: methylCC Version: 1.20.0 Command: /Library/Frameworks/R.framework/Resources/bin/R CMD build --keep-empty-dirs --no-resave-data methylCC StartedAt: 2025-04-01 02:53:20 -0400 (Tue, 01 Apr 2025) EndedAt: 2025-04-01 02:58:01 -0400 (Tue, 01 Apr 2025) EllapsedTime: 280.9 seconds RetCode: 0 Status: OK PackageFile: methylCC_1.20.0.tar.gz PackageFileSize: 4.378 MiB