Package: methylCC Version: 1.20.0 Command: rm -rf methylCC.buildbin-libdir && mkdir methylCC.buildbin-libdir && /Users/biocbuild/BBS/utils/build-universal.sh methylCC_1.20.0.tar.gz /Library/Frameworks/R.framework/Resources/bin/R methylCC.buildbin-libdir StartedAt: 2025-04-02 15:06:33 -0400 (Wed, 02 Apr 2025) EndedAt: 2025-04-02 15:07:36 -0400 (Wed, 02 Apr 2025) EllapsedTime: 62.8 seconds RetCode: 0 Status: OK PackageFile: methylCC_1.20.0.tgz PackageFileSize: 4.713 MiB