Package: methyLImp2 Version: 1.2.0 Command: /home/biocbuild/R/R/bin/R CMD build --keep-empty-dirs --no-resave-data methyLImp2 StartedAt: 2025-04-01 00:42:28 -0000 (Tue, 01 Apr 2025) EndedAt: 2025-04-01 00:43:25 -0000 (Tue, 01 Apr 2025) EllapsedTime: 57.0 seconds RetCode: 0 Status: OK PackageFile: methyLImp2_1.2.0.tar.gz PackageFileSize: 1.285 MiB