Package: methyLImp2 Version: 1.2.0 Command: chmod a+r methyLImp2 -R && F:\biocbuild\bbs-3.20-bioc\R\bin\R.exe CMD build --keep-empty-dirs --no-resave-data methyLImp2 StartedAt: 2025-03-31 20:04:44 -0400 (Mon, 31 Mar 2025) EndedAt: 2025-03-31 20:05:53 -0400 (Mon, 31 Mar 2025) EllapsedTime: 68.8 seconds RetCode: 0 Status: OK PackageFile: methyLImp2_1.2.0.tar.gz PackageFileSize: 1.261 MiB