Package: methyLImp2 Version: 1.2.0 Command: /Library/Frameworks/R.framework/Resources/bin/R CMD check --install=check:methyLImp2.install-out.txt --library=/Library/Frameworks/R.framework/Resources/library --no-vignettes --timings methyLImp2_1.2.0.tar.gz StartedAt: 2025-04-01 05:26:11 -0400 (Tue, 01 Apr 2025) EndedAt: 2025-04-01 05:32:17 -0400 (Tue, 01 Apr 2025) EllapsedTime: 365.8 seconds RetCode: 0 Status: OK CheckDir: methyLImp2.Rcheck Warnings: 0