Package: methyLImp2 Version: 1.2.0 Command: /Library/Frameworks/R.framework/Resources/bin/R CMD INSTALL methyLImp2 StartedAt: 2025-03-31 15:50:48 -0400 (Mon, 31 Mar 2025) EndedAt: 2025-03-31 15:51:09 -0400 (Mon, 31 Mar 2025) EllapsedTime: 21.7 seconds RetCode: 0 Status: OK