Package: methyLImp2 Version: 1.2.0 Command: /Library/Frameworks/R.framework/Resources/bin/R CMD check --install=check:methyLImp2.install-out.txt --library=/Library/Frameworks/R.framework/Resources/library --no-vignettes --timings methyLImp2_1.2.0.tar.gz StartedAt: 2025-04-02 00:25:40 -0400 (Wed, 02 Apr 2025) EndedAt: 2025-04-02 00:29:16 -0400 (Wed, 02 Apr 2025) EllapsedTime: 216.2 seconds RetCode: 0 Status: OK CheckDir: methyLImp2.Rcheck Warnings: 0