Package: methrix Version: 1.20.0 Command: /home/biocbuild/R/R/bin/R CMD INSTALL methrix StartedAt: 2025-01-30 20:27:14 -0000 (Thu, 30 Jan 2025) EndedAt: 2025-01-30 20:28:02 -0000 (Thu, 30 Jan 2025) EllapsedTime: 48.1 seconds RetCode: 0 Status: OK