Package: methrix Version: 1.20.0 Command: /home/biocbuild/R/R/bin/R CMD build --keep-empty-dirs --no-resave-data methrix StartedAt: 2025-01-31 00:47:49 -0000 (Fri, 31 Jan 2025) EndedAt: 2025-01-31 00:51:47 -0000 (Fri, 31 Jan 2025) EllapsedTime: 238.1 seconds RetCode: 0 Status: OK PackageFile: methrix_1.20.0.tar.gz PackageFileSize: 3.902 MiB