Package: methrix Version: 1.20.0 Command: F:\biocbuild\bbs-3.20-bioc\R\bin\R.exe CMD INSTALL methrix StartedAt: 2025-03-31 16:26:56 -0400 (Mon, 31 Mar 2025) EndedAt: 2025-03-31 16:27:56 -0400 (Mon, 31 Mar 2025) EllapsedTime: 60.4 seconds RetCode: 0 Status: OK