Package: methrix Version: 1.20.0 Command: rm -rf methrix.buildbin-libdir && mkdir methrix.buildbin-libdir && F:\biocbuild\bbs-3.20-bioc\R\bin\R.exe CMD INSTALL --build --library=methrix.buildbin-libdir methrix_1.20.0.tar.gz StartedAt: 2025-04-01 08:34:48 -0400 (Tue, 01 Apr 2025) EndedAt: 2025-04-01 08:35:59 -0400 (Tue, 01 Apr 2025) EllapsedTime: 70.8 seconds RetCode: 0 Status: OK PackageFile: methrix_1.20.0.zip PackageFileSize: 3.152 MiB