Package: methrix Version: 1.20.0 Command: /Library/Frameworks/R.framework/Resources/bin/R CMD INSTALL methrix StartedAt: 2025-03-31 16:03:52 -0400 (Mon, 31 Mar 2025) EndedAt: 2025-03-31 16:04:37 -0400 (Mon, 31 Mar 2025) EllapsedTime: 44.9 seconds RetCode: 0 Status: OK