Package: methrix Version: 1.20.0 Command: /Library/Frameworks/R.framework/Resources/bin/R CMD build --keep-empty-dirs --no-resave-data methrix StartedAt: 2025-04-01 02:46:12 -0400 (Tue, 01 Apr 2025) EndedAt: 2025-04-01 02:52:46 -0400 (Tue, 01 Apr 2025) EllapsedTime: 394.2 seconds RetCode: 0 Status: OK PackageFile: methrix_1.20.0.tar.gz PackageFileSize: 4.077 MiB