Package: methodical Version: 1.2.0 Command: /home/biocbuild/bbs-3.20-bioc/R/bin/R CMD INSTALL methodical StartedAt: 2025-03-31 15:57:29 -0400 (Mon, 31 Mar 2025) EndedAt: 2025-03-31 15:58:09 -0400 (Mon, 31 Mar 2025) EllapsedTime: 39.8 seconds RetCode: 0 Status: OK