Package: methimpute Version: 1.28.0 Command: /home/biocbuild/R/R/bin/R CMD INSTALL methimpute StartedAt: 2025-01-27 21:11:28 -0000 (Mon, 27 Jan 2025) EndedAt: 2025-01-27 21:12:27 -0000 (Mon, 27 Jan 2025) EllapsedTime: 58.9 seconds RetCode: 0 Status: OK