Package: methimpute Version: 1.28.0 Command: F:\biocbuild\bbs-3.20-bioc\R\bin\R.exe CMD INSTALL methimpute StartedAt: 2025-01-27 15:42:40 -0500 (Mon, 27 Jan 2025) EndedAt: 2025-01-27 15:43:47 -0500 (Mon, 27 Jan 2025) EllapsedTime: 66.9 seconds RetCode: 0 Status: OK