Package: methimpute Version: 1.28.0 Command: F:\biocbuild\bbs-3.20-bioc\R\bin\R.exe CMD check --no-multiarch --install=check:methimpute.install-out.txt --library=F:\biocbuild\bbs-3.20-bioc\R\library --no-vignettes --timings methimpute_1.28.0.tar.gz StartedAt: 2025-04-01 03:16:08 -0400 (Tue, 01 Apr 2025) EndedAt: 2025-04-01 03:19:26 -0400 (Tue, 01 Apr 2025) EllapsedTime: 197.8 seconds RetCode: 0 Status: WARNINGS CheckDir: methimpute.Rcheck Warnings: 1