Package: methimpute Version: 1.28.0 Command: chmod a+r methimpute -R && F:\biocbuild\bbs-3.20-bioc\R\bin\R.exe CMD build --keep-empty-dirs --no-resave-data methimpute StartedAt: 2025-03-31 20:03:10 -0400 (Mon, 31 Mar 2025) EndedAt: 2025-03-31 20:06:22 -0400 (Mon, 31 Mar 2025) EllapsedTime: 191.4 seconds RetCode: 0 Status: OK PackageFile: methimpute_1.28.0.tar.gz PackageFileSize: 1.269 MiB