Package: methimpute Version: 1.28.0 Command: /Library/Frameworks/R.framework/Resources/bin/R CMD check --install=check:methimpute.install-out.txt --library=/Library/Frameworks/R.framework/Resources/library --no-vignettes --timings methimpute_1.28.0.tar.gz StartedAt: 2025-01-28 06:18:35 -0500 (Tue, 28 Jan 2025) EndedAt: 2025-01-28 06:23:52 -0500 (Tue, 28 Jan 2025) EllapsedTime: 316.9 seconds RetCode: 0 Status: WARNINGS CheckDir: methimpute.Rcheck Warnings: 1