Package: methimpute Version: 1.28.0 Command: /Library/Frameworks/R.framework/Resources/bin/R CMD INSTALL methimpute StartedAt: 2025-03-31 15:32:58 -0400 (Mon, 31 Mar 2025) EndedAt: 2025-03-31 15:33:38 -0400 (Mon, 31 Mar 2025) EllapsedTime: 40.0 seconds RetCode: 0 Status: OK