Package: methimpute Version: 1.28.0 Command: /Library/Frameworks/R.framework/Resources/bin/R CMD check --install=check:methimpute.install-out.txt --library=/Library/Frameworks/R.framework/Resources/library --no-vignettes --timings methimpute_1.28.0.tar.gz StartedAt: 2025-04-02 00:14:42 -0400 (Wed, 02 Apr 2025) EndedAt: 2025-04-02 00:17:20 -0400 (Wed, 02 Apr 2025) EllapsedTime: 157.9 seconds RetCode: 0 Status: WARNINGS CheckDir: methimpute.Rcheck Warnings: 1