Package: methInheritSim Version: 1.28.0 Command: /home/biocbuild/R/R/bin/R CMD INSTALL methInheritSim StartedAt: 2025-03-31 20:55:18 -0000 (Mon, 31 Mar 2025) EndedAt: 2025-03-31 20:56:04 -0000 (Mon, 31 Mar 2025) EllapsedTime: 45.7 seconds RetCode: 0 Status: OK