Package: methInheritSim Version: 1.28.0 Command: /home/biocbuild/R/R/bin/R CMD check --install=check:methInheritSim.install-out.txt --library=/home/biocbuild/R/R/site-library --no-vignettes --timings methInheritSim_1.28.0.tar.gz StartedAt: 2025-04-01 08:07:07 -0000 (Tue, 01 Apr 2025) EndedAt: 2025-04-01 08:13:09 -0000 (Tue, 01 Apr 2025) EllapsedTime: 362.3 seconds RetCode: 0 Status: OK CheckDir: methInheritSim.Rcheck Warnings: 0