Package: methInheritSim Version: 1.28.0 Command: F:\biocbuild\bbs-3.20-bioc\R\bin\R.exe CMD INSTALL methInheritSim StartedAt: 2025-03-31 16:39:01 -0400 (Mon, 31 Mar 2025) EndedAt: 2025-03-31 16:40:17 -0400 (Mon, 31 Mar 2025) EllapsedTime: 76.1 seconds RetCode: 0 Status: OK