Package: methInheritSim Version: 1.28.0 Command: chmod a+r methInheritSim -R && F:\biocbuild\bbs-3.20-bioc\R\bin\R.exe CMD build --keep-empty-dirs --no-resave-data methInheritSim StartedAt: 2025-03-31 20:03:20 -0400 (Mon, 31 Mar 2025) EndedAt: 2025-03-31 20:05:00 -0400 (Mon, 31 Mar 2025) EllapsedTime: 99.9 seconds RetCode: 0 Status: OK PackageFile: methInheritSim_1.28.0.tar.gz PackageFileSize: 1.117 MiB