Package: methInheritSim Version: 1.28.0 Command: /Library/Frameworks/R.framework/Resources/bin/R CMD check --install=check:methInheritSim.install-out.txt --library=/Library/Frameworks/R.framework/Resources/library --no-vignettes --timings methInheritSim_1.28.0.tar.gz StartedAt: 2025-04-01 05:23:41 -0400 (Tue, 01 Apr 2025) EndedAt: 2025-04-01 05:34:01 -0400 (Tue, 01 Apr 2025) EllapsedTime: 619.8 seconds RetCode: 0 Status: OK CheckDir: methInheritSim.Rcheck Warnings: 0